BEGIN:VCALENDAR
VERSION:2.0
PRODID:-//Hit and Run: Musical Improv - ECPv6.15.12.2//NONSGML v1.0//EN
CALSCALE:GREGORIAN
METHOD:PUBLISH
X-WR-CALNAME:Hit and Run: Musical Improv
X-ORIGINAL-URL:https://hnr.risecomedy.com
X-WR-CALDESC:Events for Hit and Run: Musical Improv
REFRESH-INTERVAL;VALUE=DURATION:PT1H
X-Robots-Tag:noindex
X-PUBLISHED-TTL:PT1H
BEGIN:VTIMEZONE
TZID:America/Denver
BEGIN:DAYLIGHT
TZOFFSETFROM:-0700
TZOFFSETTO:-0600
TZNAME:MDT
DTSTART:20250309T090000
END:DAYLIGHT
BEGIN:STANDARD
TZOFFSETFROM:-0600
TZOFFSETTO:-0700
TZNAME:MST
DTSTART:20251102T080000
END:STANDARD
BEGIN:DAYLIGHT
TZOFFSETFROM:-0700
TZOFFSETTO:-0600
TZNAME:MDT
DTSTART:20260308T090000
END:DAYLIGHT
BEGIN:STANDARD
TZOFFSETFROM:-0600
TZOFFSETTO:-0700
TZNAME:MST
DTSTART:20261101T080000
END:STANDARD
BEGIN:DAYLIGHT
TZOFFSETFROM:-0700
TZOFFSETTO:-0600
TZNAME:MDT
DTSTART:20270314T090000
END:DAYLIGHT
BEGIN:STANDARD
TZOFFSETFROM:-0600
TZOFFSETTO:-0700
TZNAME:MST
DTSTART:20271107T080000
END:STANDARD
END:VTIMEZONE
BEGIN:VEVENT
DTSTART;TZID=America/Denver:20260424T200000
DTEND;TZID=America/Denver:20260424T210000
DTSTAMP:20260424T064217
CREATED:20240528T195037Z
LAST-MODIFIED:20240610T222209Z
UID:10000494-1777060800-1777064400@hnr.risecomedy.com
SUMMARY:Hit and Run: Musical Improv® [Improvised Broadway Musicals]
DESCRIPTION:Colorado’s PREMIER improvised musical comedy team\, and Denver’s longest-running improv comedy show! Hit and Run: Musical Improv® creates an hour-long fully improvised Broadway-style musical with live musical accompaniment\, based on suggestions from the audience. You’ll see a brand new musical every week! \nNow in its 18th year of shows\, HNR has created hundreds of musicals and thousands of songs completely from scratch. With our live in-house music director creating all the music on the fly\, every show is original\, never to be repeated!
URL:https://hnr.risecomedy.com/event/hit-and-run-musical-improv-improvised-broadway-musicals-2/2026-04-24/
LOCATION:RISE Comedy\, 1260 22nd St\, Denver\, CO\, 80205\, United States
CATEGORIES:Improv Comedy Shows,Shows
ATTACH;FMTTYPE=image/png:https://hnr.risecomedy.com/wp-content/uploads/sites/2/2021/02/hnr-fb-cover-photo.png
ORGANIZER;CN="Hit and Run%3A Musical Improv":MAILTO:info@risecomedy.com
END:VEVENT
BEGIN:VEVENT
DTSTART;TZID=America/Denver:20260501T200000
DTEND;TZID=America/Denver:20260501T210000
DTSTAMP:20260424T064217
CREATED:20240528T195037Z
LAST-MODIFIED:20240610T222209Z
UID:10000495-1777665600-1777669200@hnr.risecomedy.com
SUMMARY:Hit and Run: Musical Improv® [Improvised Broadway Musicals]
DESCRIPTION:Colorado’s PREMIER improvised musical comedy team\, and Denver’s longest-running improv comedy show! Hit and Run: Musical Improv® creates an hour-long fully improvised Broadway-style musical with live musical accompaniment\, based on suggestions from the audience. You’ll see a brand new musical every week! \nNow in its 18th year of shows\, HNR has created hundreds of musicals and thousands of songs completely from scratch. With our live in-house music director creating all the music on the fly\, every show is original\, never to be repeated!
URL:https://hnr.risecomedy.com/event/hit-and-run-musical-improv-improvised-broadway-musicals-2/2026-05-01/
LOCATION:RISE Comedy\, 1260 22nd St\, Denver\, CO\, 80205\, United States
CATEGORIES:Improv Comedy Shows,Shows
ATTACH;FMTTYPE=image/png:https://hnr.risecomedy.com/wp-content/uploads/sites/2/2021/02/hnr-fb-cover-photo.png
ORGANIZER;CN="Hit and Run%3A Musical Improv":MAILTO:info@risecomedy.com
END:VEVENT
BEGIN:VEVENT
DTSTART;TZID=America/Denver:20260508T200000
DTEND;TZID=America/Denver:20260508T210000
DTSTAMP:20260424T064217
CREATED:20240528T195037Z
LAST-MODIFIED:20240610T222209Z
UID:10000496-1778270400-1778274000@hnr.risecomedy.com
SUMMARY:Hit and Run: Musical Improv® [Improvised Broadway Musicals]
DESCRIPTION:Colorado’s PREMIER improvised musical comedy team\, and Denver’s longest-running improv comedy show! Hit and Run: Musical Improv® creates an hour-long fully improvised Broadway-style musical with live musical accompaniment\, based on suggestions from the audience. You’ll see a brand new musical every week! \nNow in its 18th year of shows\, HNR has created hundreds of musicals and thousands of songs completely from scratch. With our live in-house music director creating all the music on the fly\, every show is original\, never to be repeated!
URL:https://hnr.risecomedy.com/event/hit-and-run-musical-improv-improvised-broadway-musicals-2/2026-05-08/
LOCATION:RISE Comedy\, 1260 22nd St\, Denver\, CO\, 80205\, United States
CATEGORIES:Improv Comedy Shows,Shows
ATTACH;FMTTYPE=image/png:https://hnr.risecomedy.com/wp-content/uploads/sites/2/2021/02/hnr-fb-cover-photo.png
ORGANIZER;CN="Hit and Run%3A Musical Improv":MAILTO:info@risecomedy.com
END:VEVENT
BEGIN:VEVENT
DTSTART;TZID=America/Denver:20260515T200000
DTEND;TZID=America/Denver:20260515T210000
DTSTAMP:20260424T064217
CREATED:20240528T195037Z
LAST-MODIFIED:20240610T222209Z
UID:10000497-1778875200-1778878800@hnr.risecomedy.com
SUMMARY:Hit and Run: Musical Improv® [Improvised Broadway Musicals]
DESCRIPTION:Colorado’s PREMIER improvised musical comedy team\, and Denver’s longest-running improv comedy show! Hit and Run: Musical Improv® creates an hour-long fully improvised Broadway-style musical with live musical accompaniment\, based on suggestions from the audience. You’ll see a brand new musical every week! \nNow in its 18th year of shows\, HNR has created hundreds of musicals and thousands of songs completely from scratch. With our live in-house music director creating all the music on the fly\, every show is original\, never to be repeated!
URL:https://hnr.risecomedy.com/event/hit-and-run-musical-improv-improvised-broadway-musicals-2/2026-05-15/
LOCATION:RISE Comedy\, 1260 22nd St\, Denver\, CO\, 80205\, United States
CATEGORIES:Improv Comedy Shows,Shows
ATTACH;FMTTYPE=image/png:https://hnr.risecomedy.com/wp-content/uploads/sites/2/2021/02/hnr-fb-cover-photo.png
ORGANIZER;CN="Hit and Run%3A Musical Improv":MAILTO:info@risecomedy.com
END:VEVENT
BEGIN:VEVENT
DTSTART;TZID=America/Denver:20260522T200000
DTEND;TZID=America/Denver:20260522T210000
DTSTAMP:20260424T064217
CREATED:20240528T195037Z
LAST-MODIFIED:20240610T222209Z
UID:10000498-1779480000-1779483600@hnr.risecomedy.com
SUMMARY:Hit and Run: Musical Improv® [Improvised Broadway Musicals]
DESCRIPTION:Colorado’s PREMIER improvised musical comedy team\, and Denver’s longest-running improv comedy show! Hit and Run: Musical Improv® creates an hour-long fully improvised Broadway-style musical with live musical accompaniment\, based on suggestions from the audience. You’ll see a brand new musical every week! \nNow in its 18th year of shows\, HNR has created hundreds of musicals and thousands of songs completely from scratch. With our live in-house music director creating all the music on the fly\, every show is original\, never to be repeated!
URL:https://hnr.risecomedy.com/event/hit-and-run-musical-improv-improvised-broadway-musicals-2/2026-05-22/
LOCATION:RISE Comedy\, 1260 22nd St\, Denver\, CO\, 80205\, United States
CATEGORIES:Improv Comedy Shows,Shows
ATTACH;FMTTYPE=image/png:https://hnr.risecomedy.com/wp-content/uploads/sites/2/2021/02/hnr-fb-cover-photo.png
ORGANIZER;CN="Hit and Run%3A Musical Improv":MAILTO:info@risecomedy.com
END:VEVENT
BEGIN:VEVENT
DTSTART;TZID=America/Denver:20260529T200000
DTEND;TZID=America/Denver:20260529T210000
DTSTAMP:20260424T064217
CREATED:20240528T195037Z
LAST-MODIFIED:20240610T222209Z
UID:10000499-1780084800-1780088400@hnr.risecomedy.com
SUMMARY:Hit and Run: Musical Improv® [Improvised Broadway Musicals]
DESCRIPTION:Colorado’s PREMIER improvised musical comedy team\, and Denver’s longest-running improv comedy show! Hit and Run: Musical Improv® creates an hour-long fully improvised Broadway-style musical with live musical accompaniment\, based on suggestions from the audience. You’ll see a brand new musical every week! \nNow in its 18th year of shows\, HNR has created hundreds of musicals and thousands of songs completely from scratch. With our live in-house music director creating all the music on the fly\, every show is original\, never to be repeated!
URL:https://hnr.risecomedy.com/event/hit-and-run-musical-improv-improvised-broadway-musicals-2/2026-05-29/
LOCATION:RISE Comedy\, 1260 22nd St\, Denver\, CO\, 80205\, United States
CATEGORIES:Improv Comedy Shows,Shows
ATTACH;FMTTYPE=image/png:https://hnr.risecomedy.com/wp-content/uploads/sites/2/2021/02/hnr-fb-cover-photo.png
ORGANIZER;CN="Hit and Run%3A Musical Improv":MAILTO:info@risecomedy.com
END:VEVENT
BEGIN:VEVENT
DTSTART;TZID=America/Denver:20260605T200000
DTEND;TZID=America/Denver:20260605T210000
DTSTAMP:20260424T064217
CREATED:20240528T195037Z
LAST-MODIFIED:20240610T222209Z
UID:10000500-1780689600-1780693200@hnr.risecomedy.com
SUMMARY:Hit and Run: Musical Improv® [Improvised Broadway Musicals]
DESCRIPTION:Colorado’s PREMIER improvised musical comedy team\, and Denver’s longest-running improv comedy show! Hit and Run: Musical Improv® creates an hour-long fully improvised Broadway-style musical with live musical accompaniment\, based on suggestions from the audience. You’ll see a brand new musical every week! \nNow in its 18th year of shows\, HNR has created hundreds of musicals and thousands of songs completely from scratch. With our live in-house music director creating all the music on the fly\, every show is original\, never to be repeated!
URL:https://hnr.risecomedy.com/event/hit-and-run-musical-improv-improvised-broadway-musicals-2/2026-06-05/
LOCATION:RISE Comedy\, 1260 22nd St\, Denver\, CO\, 80205\, United States
CATEGORIES:Improv Comedy Shows,Shows
ATTACH;FMTTYPE=image/png:https://hnr.risecomedy.com/wp-content/uploads/sites/2/2021/02/hnr-fb-cover-photo.png
ORGANIZER;CN="Hit and Run%3A Musical Improv":MAILTO:info@risecomedy.com
END:VEVENT
BEGIN:VEVENT
DTSTART;TZID=America/Denver:20260612T200000
DTEND;TZID=America/Denver:20260612T210000
DTSTAMP:20260424T064217
CREATED:20240528T195037Z
LAST-MODIFIED:20240610T222209Z
UID:10000501-1781294400-1781298000@hnr.risecomedy.com
SUMMARY:Hit and Run: Musical Improv® [Improvised Broadway Musicals]
DESCRIPTION:Colorado’s PREMIER improvised musical comedy team\, and Denver’s longest-running improv comedy show! Hit and Run: Musical Improv® creates an hour-long fully improvised Broadway-style musical with live musical accompaniment\, based on suggestions from the audience. You’ll see a brand new musical every week! \nNow in its 18th year of shows\, HNR has created hundreds of musicals and thousands of songs completely from scratch. With our live in-house music director creating all the music on the fly\, every show is original\, never to be repeated!
URL:https://hnr.risecomedy.com/event/hit-and-run-musical-improv-improvised-broadway-musicals-2/2026-06-12/
LOCATION:RISE Comedy\, 1260 22nd St\, Denver\, CO\, 80205\, United States
CATEGORIES:Improv Comedy Shows,Shows
ATTACH;FMTTYPE=image/png:https://hnr.risecomedy.com/wp-content/uploads/sites/2/2021/02/hnr-fb-cover-photo.png
ORGANIZER;CN="Hit and Run%3A Musical Improv":MAILTO:info@risecomedy.com
END:VEVENT
BEGIN:VEVENT
DTSTART;TZID=America/Denver:20260619T200000
DTEND;TZID=America/Denver:20260619T210000
DTSTAMP:20260424T064217
CREATED:20240528T195037Z
LAST-MODIFIED:20240610T222209Z
UID:10000502-1781899200-1781902800@hnr.risecomedy.com
SUMMARY:Hit and Run: Musical Improv® [Improvised Broadway Musicals]
DESCRIPTION:Colorado’s PREMIER improvised musical comedy team\, and Denver’s longest-running improv comedy show! Hit and Run: Musical Improv® creates an hour-long fully improvised Broadway-style musical with live musical accompaniment\, based on suggestions from the audience. You’ll see a brand new musical every week! \nNow in its 18th year of shows\, HNR has created hundreds of musicals and thousands of songs completely from scratch. With our live in-house music director creating all the music on the fly\, every show is original\, never to be repeated!
URL:https://hnr.risecomedy.com/event/hit-and-run-musical-improv-improvised-broadway-musicals-2/2026-06-19/
LOCATION:RISE Comedy\, 1260 22nd St\, Denver\, CO\, 80205\, United States
CATEGORIES:Improv Comedy Shows,Shows
ATTACH;FMTTYPE=image/png:https://hnr.risecomedy.com/wp-content/uploads/sites/2/2021/02/hnr-fb-cover-photo.png
ORGANIZER;CN="Hit and Run%3A Musical Improv":MAILTO:info@risecomedy.com
END:VEVENT
BEGIN:VEVENT
DTSTART;TZID=America/Denver:20260626T200000
DTEND;TZID=America/Denver:20260626T210000
DTSTAMP:20260424T064217
CREATED:20240528T195037Z
LAST-MODIFIED:20240610T222209Z
UID:10000503-1782504000-1782507600@hnr.risecomedy.com
SUMMARY:Hit and Run: Musical Improv® [Improvised Broadway Musicals]
DESCRIPTION:Colorado’s PREMIER improvised musical comedy team\, and Denver’s longest-running improv comedy show! Hit and Run: Musical Improv® creates an hour-long fully improvised Broadway-style musical with live musical accompaniment\, based on suggestions from the audience. You’ll see a brand new musical every week! \nNow in its 18th year of shows\, HNR has created hundreds of musicals and thousands of songs completely from scratch. With our live in-house music director creating all the music on the fly\, every show is original\, never to be repeated!
URL:https://hnr.risecomedy.com/event/hit-and-run-musical-improv-improvised-broadway-musicals-2/2026-06-26/
LOCATION:RISE Comedy\, 1260 22nd St\, Denver\, CO\, 80205\, United States
CATEGORIES:Improv Comedy Shows,Shows
ATTACH;FMTTYPE=image/png:https://hnr.risecomedy.com/wp-content/uploads/sites/2/2021/02/hnr-fb-cover-photo.png
ORGANIZER;CN="Hit and Run%3A Musical Improv":MAILTO:info@risecomedy.com
END:VEVENT
BEGIN:VEVENT
DTSTART;TZID=America/Denver:20260703T200000
DTEND;TZID=America/Denver:20260703T210000
DTSTAMP:20260424T064217
CREATED:20240528T195037Z
LAST-MODIFIED:20240610T222209Z
UID:10000504-1783108800-1783112400@hnr.risecomedy.com
SUMMARY:Hit and Run: Musical Improv® [Improvised Broadway Musicals]
DESCRIPTION:Colorado’s PREMIER improvised musical comedy team\, and Denver’s longest-running improv comedy show! Hit and Run: Musical Improv® creates an hour-long fully improvised Broadway-style musical with live musical accompaniment\, based on suggestions from the audience. You’ll see a brand new musical every week! \nNow in its 18th year of shows\, HNR has created hundreds of musicals and thousands of songs completely from scratch. With our live in-house music director creating all the music on the fly\, every show is original\, never to be repeated!
URL:https://hnr.risecomedy.com/event/hit-and-run-musical-improv-improvised-broadway-musicals-2/2026-07-03/
LOCATION:RISE Comedy\, 1260 22nd St\, Denver\, CO\, 80205\, United States
CATEGORIES:Improv Comedy Shows,Shows
ATTACH;FMTTYPE=image/png:https://hnr.risecomedy.com/wp-content/uploads/sites/2/2021/02/hnr-fb-cover-photo.png
ORGANIZER;CN="Hit and Run%3A Musical Improv":MAILTO:info@risecomedy.com
END:VEVENT
BEGIN:VEVENT
DTSTART;TZID=America/Denver:20260710T200000
DTEND;TZID=America/Denver:20260710T210000
DTSTAMP:20260424T064217
CREATED:20240528T195037Z
LAST-MODIFIED:20240610T222209Z
UID:10000505-1783713600-1783717200@hnr.risecomedy.com
SUMMARY:Hit and Run: Musical Improv® [Improvised Broadway Musicals]
DESCRIPTION:Colorado’s PREMIER improvised musical comedy team\, and Denver’s longest-running improv comedy show! Hit and Run: Musical Improv® creates an hour-long fully improvised Broadway-style musical with live musical accompaniment\, based on suggestions from the audience. You’ll see a brand new musical every week! \nNow in its 18th year of shows\, HNR has created hundreds of musicals and thousands of songs completely from scratch. With our live in-house music director creating all the music on the fly\, every show is original\, never to be repeated!
URL:https://hnr.risecomedy.com/event/hit-and-run-musical-improv-improvised-broadway-musicals-2/2026-07-10/
LOCATION:RISE Comedy\, 1260 22nd St\, Denver\, CO\, 80205\, United States
CATEGORIES:Improv Comedy Shows,Shows
ATTACH;FMTTYPE=image/png:https://hnr.risecomedy.com/wp-content/uploads/sites/2/2021/02/hnr-fb-cover-photo.png
ORGANIZER;CN="Hit and Run%3A Musical Improv":MAILTO:info@risecomedy.com
END:VEVENT
BEGIN:VEVENT
DTSTART;TZID=America/Denver:20260717T200000
DTEND;TZID=America/Denver:20260717T210000
DTSTAMP:20260424T064217
CREATED:20240528T195037Z
LAST-MODIFIED:20240610T222209Z
UID:10000506-1784318400-1784322000@hnr.risecomedy.com
SUMMARY:Hit and Run: Musical Improv® [Improvised Broadway Musicals]
DESCRIPTION:Colorado’s PREMIER improvised musical comedy team\, and Denver’s longest-running improv comedy show! Hit and Run: Musical Improv® creates an hour-long fully improvised Broadway-style musical with live musical accompaniment\, based on suggestions from the audience. You’ll see a brand new musical every week! \nNow in its 18th year of shows\, HNR has created hundreds of musicals and thousands of songs completely from scratch. With our live in-house music director creating all the music on the fly\, every show is original\, never to be repeated!
URL:https://hnr.risecomedy.com/event/hit-and-run-musical-improv-improvised-broadway-musicals-2/2026-07-17/
LOCATION:RISE Comedy\, 1260 22nd St\, Denver\, CO\, 80205\, United States
CATEGORIES:Improv Comedy Shows,Shows
ATTACH;FMTTYPE=image/png:https://hnr.risecomedy.com/wp-content/uploads/sites/2/2021/02/hnr-fb-cover-photo.png
ORGANIZER;CN="Hit and Run%3A Musical Improv":MAILTO:info@risecomedy.com
END:VEVENT
BEGIN:VEVENT
DTSTART;TZID=America/Denver:20260724T200000
DTEND;TZID=America/Denver:20260724T210000
DTSTAMP:20260424T064217
CREATED:20240528T195037Z
LAST-MODIFIED:20240610T222209Z
UID:10000507-1784923200-1784926800@hnr.risecomedy.com
SUMMARY:Hit and Run: Musical Improv® [Improvised Broadway Musicals]
DESCRIPTION:Colorado’s PREMIER improvised musical comedy team\, and Denver’s longest-running improv comedy show! Hit and Run: Musical Improv® creates an hour-long fully improvised Broadway-style musical with live musical accompaniment\, based on suggestions from the audience. You’ll see a brand new musical every week! \nNow in its 18th year of shows\, HNR has created hundreds of musicals and thousands of songs completely from scratch. With our live in-house music director creating all the music on the fly\, every show is original\, never to be repeated!
URL:https://hnr.risecomedy.com/event/hit-and-run-musical-improv-improvised-broadway-musicals-2/2026-07-24/
LOCATION:RISE Comedy\, 1260 22nd St\, Denver\, CO\, 80205\, United States
CATEGORIES:Improv Comedy Shows,Shows
ATTACH;FMTTYPE=image/png:https://hnr.risecomedy.com/wp-content/uploads/sites/2/2021/02/hnr-fb-cover-photo.png
ORGANIZER;CN="Hit and Run%3A Musical Improv":MAILTO:info@risecomedy.com
END:VEVENT
BEGIN:VEVENT
DTSTART;TZID=America/Denver:20260731T200000
DTEND;TZID=America/Denver:20260731T210000
DTSTAMP:20260424T064217
CREATED:20240528T195037Z
LAST-MODIFIED:20240610T222209Z
UID:10000508-1785528000-1785531600@hnr.risecomedy.com
SUMMARY:Hit and Run: Musical Improv® [Improvised Broadway Musicals]
DESCRIPTION:Colorado’s PREMIER improvised musical comedy team\, and Denver’s longest-running improv comedy show! Hit and Run: Musical Improv® creates an hour-long fully improvised Broadway-style musical with live musical accompaniment\, based on suggestions from the audience. You’ll see a brand new musical every week! \nNow in its 18th year of shows\, HNR has created hundreds of musicals and thousands of songs completely from scratch. With our live in-house music director creating all the music on the fly\, every show is original\, never to be repeated!
URL:https://hnr.risecomedy.com/event/hit-and-run-musical-improv-improvised-broadway-musicals-2/2026-07-31/
LOCATION:RISE Comedy\, 1260 22nd St\, Denver\, CO\, 80205\, United States
CATEGORIES:Improv Comedy Shows,Shows
ATTACH;FMTTYPE=image/png:https://hnr.risecomedy.com/wp-content/uploads/sites/2/2021/02/hnr-fb-cover-photo.png
ORGANIZER;CN="Hit and Run%3A Musical Improv":MAILTO:info@risecomedy.com
END:VEVENT
BEGIN:VEVENT
DTSTART;TZID=America/Denver:20260807T200000
DTEND;TZID=America/Denver:20260807T210000
DTSTAMP:20260424T064217
CREATED:20240528T195037Z
LAST-MODIFIED:20240610T222209Z
UID:10000509-1786132800-1786136400@hnr.risecomedy.com
SUMMARY:Hit and Run: Musical Improv® [Improvised Broadway Musicals]
DESCRIPTION:Colorado’s PREMIER improvised musical comedy team\, and Denver’s longest-running improv comedy show! Hit and Run: Musical Improv® creates an hour-long fully improvised Broadway-style musical with live musical accompaniment\, based on suggestions from the audience. You’ll see a brand new musical every week! \nNow in its 18th year of shows\, HNR has created hundreds of musicals and thousands of songs completely from scratch. With our live in-house music director creating all the music on the fly\, every show is original\, never to be repeated!
URL:https://hnr.risecomedy.com/event/hit-and-run-musical-improv-improvised-broadway-musicals-2/2026-08-07/
LOCATION:RISE Comedy\, 1260 22nd St\, Denver\, CO\, 80205\, United States
CATEGORIES:Improv Comedy Shows,Shows
ATTACH;FMTTYPE=image/png:https://hnr.risecomedy.com/wp-content/uploads/sites/2/2021/02/hnr-fb-cover-photo.png
ORGANIZER;CN="Hit and Run%3A Musical Improv":MAILTO:info@risecomedy.com
END:VEVENT
BEGIN:VEVENT
DTSTART;TZID=America/Denver:20260814T200000
DTEND;TZID=America/Denver:20260814T210000
DTSTAMP:20260424T064217
CREATED:20240528T195037Z
LAST-MODIFIED:20240610T222209Z
UID:10000510-1786737600-1786741200@hnr.risecomedy.com
SUMMARY:Hit and Run: Musical Improv® [Improvised Broadway Musicals]
DESCRIPTION:Colorado’s PREMIER improvised musical comedy team\, and Denver’s longest-running improv comedy show! Hit and Run: Musical Improv® creates an hour-long fully improvised Broadway-style musical with live musical accompaniment\, based on suggestions from the audience. You’ll see a brand new musical every week! \nNow in its 18th year of shows\, HNR has created hundreds of musicals and thousands of songs completely from scratch. With our live in-house music director creating all the music on the fly\, every show is original\, never to be repeated!
URL:https://hnr.risecomedy.com/event/hit-and-run-musical-improv-improvised-broadway-musicals-2/2026-08-14/
LOCATION:RISE Comedy\, 1260 22nd St\, Denver\, CO\, 80205\, United States
CATEGORIES:Improv Comedy Shows,Shows
ATTACH;FMTTYPE=image/png:https://hnr.risecomedy.com/wp-content/uploads/sites/2/2021/02/hnr-fb-cover-photo.png
ORGANIZER;CN="Hit and Run%3A Musical Improv":MAILTO:info@risecomedy.com
END:VEVENT
END:VCALENDAR